BEGIN:VCALENDAR
VERSION:2.0
PRODID:-//wp-events-plugin.com//7.2.3.1//EN
TZID:Europe/Berlin
X-WR-TIMEZONE:Europe/Berlin
BEGIN:VEVENT
UID:14@kidstime-netzwerk.de
DTSTART;TZID=Europe/Berlin;VALUE=DATE:20240930
DTEND;TZID=Europe/Berlin;VALUE=DATE:20241002
DTSTAMP:20240821T093111Z
URL:https://kidstime-netzwerk.de/events/weiterbildung-zumr-kidstime-traine
 rin-zwickau/
SUMMARY:Weiterbildung zum*r Kidstime-Trainer*in (Zwickau) ! Neues Datum ! (
 30.09.-01.10.24)
DESCRIPTION:&nbsp\;\n\n[background type="color" color="#7aa85e" class="back
 grounded"]\nSchulung zur Durchführung von Kidstime-Workshops\n&nbsp\;\nin
  Zwickau\n[/background]\n\n[background type="color" color="#ffffff" class=
 "inverse"]\nInhalte der Weiterbildung zum*r Kidstime-Trainer*in\n&nbsp\;\n
 Kinder psychisch erkrankter Eltern sind eine Hochrisikogruppe\, die lange 
 vernachlässigt wurde und für die erst in den letzten Jahren vermehrt Ang
 ebote entwickelt werden. Schwierig ist dabei häufig\, ein professionelles
  und attraktives Angebot mit einem niedrigschwelligen Zugang zu verbinden.
 \nKidstime-Workshops wurden in den 1990er Jahren in London in einem Team u
 m Alan Cooklin und Eia Asen entwickelt. Seit einigen Jahren besteht dieses
  Angebot auch in Deutschland. In diesem "social and educational event" mit
  Mehrfamilienarbeit werden Kinder psychisch kranker Eltern und ihre Famili
 en ressourcenorientiert gestärkt.\nMit Hilfe der Mehrfamilienarbeit / Mul
 tifamilientherapie\, kreativer und theaterpädagogischer Angebote finden d
 ie Familien Wege aus Tabuisierung und schambesetzter Isolation. Sie entdec
 ken häufig Gemeinsamkeiten und eine Sprache für das Thema psychischer Er
 krankung in den Familien. Erklärungen und mehr Verstehbarkeit führen zu 
 Entlastung bei Kindern und Elternteilen. Schlüsselelement sind hierbei vo
 n den Kindern selbst erstellte Videoclips zu ihrem Alltagserleben und dere
 n gemeinsame Reflexion. Eingesetzte Methoden entstammen der Multifamilient
 herapie\, der Theaterpädagogik\, systemischer Einzel- und Gruppentherapie
  und Psychomotorik\, daneben werden u. a. Elemente der (Psycho-) Edukation
  genutzt.\nDie zweitägige Fortbildung vermittelt theoretische und praktis
 che Kompetenzen zur Durchführung eigener Kidstime-Workshops. Die Trainer*
 innen sind akkreditierte Ausbildner*innen für Kidstime-Workshops in Koope
 ration mit der Londoner Our Time Foundation.\nDie Teilnahme an der Fortbil
 dung qualifiziert in Verbindung mit der Hospitation an einem laufenden Kid
 stime-Workshop zur eigenständigen Durchführung gemäß den Standards der
  Our Time Foundation und Kidstime Deutschland e. V. .\n&nbsp\;\n\n&nbsp\;\
 n\n&nbsp\;\nInfos zur Anmeldung\n&nbsp\;\nKosten\n- Informationen folgen -
 \n\n&nbsp\;\nAnmeldung\n- Informationen folgen\, bis dahin auf Anfrage unt
 er info@systemeo.de -\n\n&nbsp\;\n\n&nbsp\;\n\n&nbsp\;\n\n&nbsp\;\n\n&nbsp
 \;
END:VEVENT
BEGIN:VTIMEZONE
TZID:Europe/Berlin
X-LIC-LOCATION:Europe/Berlin
BEGIN:DAYLIGHT
DTSTART:20240331T030000
TZOFFSETFROM:+0100
TZOFFSETTO:+0200
TZNAME:CEST
END:DAYLIGHT
END:VTIMEZONE
END:VCALENDAR