BEGIN:VCALENDAR
VERSION:2.0
PRODID:-//wp-events-plugin.com//7.2.3.1//EN
TZID:Europe/Berlin
X-WR-TIMEZONE:Europe/Berlin
BEGIN:VEVENT
UID:1@kidstime-netzwerk.de
DTSTART;TZID=Europe/Berlin:20200911T093000
DTEND;TZID=Europe/Berlin:20200911T150000
DTSTAMP:20200820T170211Z
URL:https://kidstime-netzwerk.de/events/kidstime-jahrestagung/
SUMMARY:Erste Kidstime Jahrestagung mit Dr. Alan Cooklin (im zoombasierten 
 Online-Format)
DESCRIPTION:[background type="color" color="#a58c9c" class="backgrounded"]\
 n1. Kidstime Jahrestagung mit Dr. Alan Cooklin\n&nbsp\;\nam 11. &amp\; 12.
  September 2020\nim Lichthaus Bremen\n&nbsp\;\n*** in der ursprünglich ge
 planten Form abgesagt\,\n\nfindet stattdessen am 11. September 2020\n\nim 
 zoombasierten Online-Format statt ***\n[/background]\n[background type="co
 lor" color="#ffffff" class="inverse"]\nDer Fachtag kann vor dem Hintergrun
 d der fortbestehenden Coronabedingten Einschränkungen\nund der nicht gut 
 absehbaren weiteren Entwicklung\nleider nicht wie geplant stattfinden.\n\n
 \nWir bedauern diese leider notwendige Entscheidung\nund haben ersatzweise
  ein Online-Format auf die Beine gestellt.\n&nbsp\;\n\n&nbsp\;\n\n&nbsp\;\
 n\nDer Fachtag lädt aktive Kidstime-Worker und Interessierte\n\nzum Austa
 usch und zur Weiterentwicklung der Arbeit ein!\n&nbsp\;\n\n\n\n[/backgroun
 d]\n[background type="color" color="#7aa85f" class="backgrounded"]\nFreita
 g\, 11. September 2020 (online)\n[/background]\n[background type="color" c
 olor="#ffffff" class="inverse"]\nBegrüßung (09:30 Uhr - 10:00 Uhr)\n&nbs
 p\;\n09:30 Uhr\nBegrüßung und Eröffnung der Tagung\n(Henner Spierling)\
 n&nbsp\;\n09:45 Uhr\nGrußwort der Ourtimefoundation\n(Dympna Cunnane\, CE
 O Ourtime)\n&nbsp\;\n\n&nbsp\;\n\n&nbsp\;\nVortragsreihe (10:00 Uhr - 12:0
 0 Uhr)\n&nbsp\;\n10:00 Uhr\nThe story of Kidstime\n(Alan Cooklin\, Vortrag
  in englischer Sprache mit deutschen Untertiteln)\n&nbsp\;\n10:30 Uhr\nYou
 ng peoples voices – kidstime experiences in Barcelona\n(Miguel Cardenas\
 , Vortrag in englischer Sprache mit deutschen Untertiteln)\n&nbsp\;\n11:00
  Uhr\nThe children’s perspective – Erfahrungen als teilnehmende Jugend
 liche an Kidstime\n(Kirsty Tahta-Wraith &amp\; Chineye Njoku\, Vortrag in 
 englischer Sprache mit deutschen Untertiteln)\n&nbsp\;\n11:30 Uhr\nSzenisc
 hes Spiel\, Theater und Resilienzaufbau\n(Deni Francis Alexandra Benthin &
 amp\; Kerstin Spierling\, Podiumsdiskussion mit praktischen interaktiven 
 Übungen)\n&nbsp\;\n\n&nbsp\;\n\n*** im Anschluss an jeden Vortrag\ngibt e
 s Zeit zur Beantwortung\neinzelner über die Chatfunktion gestellter Frage
 n ***\n&nbsp\;\n\n&nbsp\;\n\n&nbsp\;\nPause (12:00 Uhr - 13:00 Uhr)\n&nbsp
 \;\nPause\, Zuordnung der Teilnehmenden in Breakout-Rooms\n&nbsp\;\n\n&nbs
 p\;\n\n&nbsp\;\nDiskussionsforen (13:00 Uhr - 14:30 Uhr)\n&nbsp\;\nin Brea
 kout-Rooms zu folgenden vorgeschlagenen Themen:\n&nbsp\;\n\n&nbsp\;\nNr. 1
 : best practices / Methodenworkshop: \nWelche (neuen und alten) Übungen f
 unktionieren gut in Kidstime?\n&nbsp\;\nNr. 2: Kritische Situationen und H
 ürden: \nWas bereitet Probleme und aus welchen Fehlern können wir lernen
 ?\n&nbsp\;\nNr. 3: Kidstime und Corona: \n„Was tun?“ und neue Impulse 
 aus der Not heraus\n&nbsp\;\nNr. 4: Evaluation und Finanzierung\n\n&nbsp\;
 \nNr. 5: Kooperationen und Netzwerke: \nFormen der Zusammenarbeit mit Schu
 len\, Kliniken\, Jugendhilfe und anderen Projekten\n&nbsp\;\nNr. 6: Materi
 alvorstellungen: \nVideos\, Bücher\, Spielzeuge\, ...\n&nbsp\;\nNr. 7: En
 glish only: \nOffenes Diskussionsforum in englischer Sprache\n&nbsp\;\n\n&
 nbsp\;\n*** weitere Wünsche gerne mitteilen\,\nwir ergänzen gerne bzw. r
 ichten weitere Themenangebote\nsoweit möglich ein ***\n&nbsp\;\n\n&nbsp\;
 \n\n&nbsp\;\nAustausch und Abschluss (14:30 Uhr - 15:00 Uhr)\n&nbsp\;\n14:
 30 Uhr\nZusammenfassung der Breakout-Rooms (je 1-2 markante Sätze)\nAusbl
 ick bzgl. weiterer Vernetzung und Abschluss\n&nbsp\;\n15:00 Uhr\nTagungsen
 de\n&nbsp\;\n\n&nbsp\;\n\n&nbsp\;\nTheaterabend (entfällt)\n&nbsp\;\nab 1
 9:00 Uhr\nTheaterabend von und mit Thomas Ulrich zum Thema "Kinder psychis
 ch kranker Eltern"\n[/background]\n[background type="color" color="#7aa85f
 " class="backgrounded"]\nSamstag\, 12. September 2020 (entfällt)\n[/backg
 round]\n[background type="color" color="#ffffff" class="inverse"]\nab 10:0
 0 Uhr\nOpen Space on Kidstime im Torhaus-Saal\n[/background]\n\n&nbsp\;\nD
 as detaillierte Veranstaltungsprogramm finden Sie hier:\n&nbsp\;\n\n\nJahr
 estagung Flyer (pdf)\n&nbsp\;\n\n&nbsp\;\n\n[background type="color" color
 ="#a58c9c" class="backgrounded"]\nAnmeldung\n&nbsp\;\n(bis zum 25. August 
 2020)\n[/background]\n[background type="color" color="#ffffff" class="inve
 rse"]\n*** Feste Teilnahmegebühren berechnen wir für die Online-Veransta
 ltung nicht\n\n– allerdings würden wir uns zur Deckung der anfallenden 
 Kosten\n\nüber eine Spende an den Kidstime-Verein freuen. ***\n&nbsp\;\n\
 n&nbsp\;\nKontoinhaber: Kidstime Deutschland e.V.\nIBAN: DE35 2415 1235 00
 75 4814 99\nBIC: BRLADE21ROB\nSparkasse Rotenburg / Bremervörde\n&nbsp\;\
 n\n&nbsp\;\nBitte in das Kommentarfeld Ihre gewünschte Breakout-Room-Numm
 er\n(oder Ihr eigenes Anliegen / Ihren Themenvorschlag)\nund den Namen Ihr
 er Institution eintragen.\n&nbsp\;\n\n[/background]
LOCATION:Lichthaus Bremen\, Hermann-Prüster-Straße 4\, Bremen\, 28237\, D
 eutschland
X-APPLE-STRUCTURED-LOCATION;VALUE=URI;X-ADDRESS=Hermann-Prüster-Straße 4\
 , Bremen\, 28237\, Deutschland;X-APPLE-RADIUS=100;X-TITLE=Lichthaus Bremen
 :geo:0,0
END:VEVENT
BEGIN:VTIMEZONE
TZID:Europe/Berlin
X-LIC-LOCATION:Europe/Berlin
BEGIN:DAYLIGHT
DTSTART:20200329T030000
TZOFFSETFROM:+0100
TZOFFSETTO:+0200
TZNAME:CEST
END:DAYLIGHT
END:VTIMEZONE
END:VCALENDAR